BEGIN:VCALENDAR
VERSION:2.0
PRODID:-//Tukios.com/
BEGIN:VEVENT
UID:0a5df80b-2b34-46da-b6da-5acace40b061@www.covertfuneralhome.com
DTSTAMP:20260421T190633Z
DTSTART:20260501T150000Z
DTEND:20260501T160000Z
SUMMARY:Visitation
DESCRIPTION:
URL:https://www.covertfuneralhome.com/obituaries/ethel-williams
LOCATION:Covert Funeral Home 7199 Main St  Ovid NY 14521
GEO:42.67572;-76.8225633
END:VEVENT
END:VCALENDAR