BEGIN:VCALENDAR
VERSION:2.0
PRODID:-//Tukios.com/
BEGIN:VEVENT
UID:fc7c0e8f-d7a0-4069-91bd-a54e24038606@www.covertfuneralhome.com
DTSTAMP:20260421T185848Z
DTSTART:20260501T160000Z
DTEND:20260501T170000Z
SUMMARY:Funeral Service
DESCRIPTION:
URL:https://www.covertfuneralhome.com/obituaries/ethel-williams
LOCATION:Covert Funeral Home 7199 Main St  Ovid NY 14521
GEO:42.67572;-76.8225633
END:VEVENT
END:VCALENDAR